BEGIN:VCALENDAR
VERSION:2.0
PRODID:-//Micronics Systems - ECPv6.9.1//NONSGML v1.0//EN
CALSCALE:GREGORIAN
METHOD:PUBLISH
X-WR-CALNAME:Micronics Systems
X-ORIGINAL-URL:https://new.micronics.fr
X-WR-CALDESC:Évènements pour Micronics Systems
REFRESH-INTERVAL;VALUE=DURATION:PT1H
X-Robots-Tag:noindex
X-PUBLISHED-TTL:PT1H
BEGIN:VTIMEZONE
TZID:Europe/Paris
BEGIN:DAYLIGHT
TZOFFSETFROM:+0100
TZOFFSETTO:+0200
TZNAME:CEST
DTSTART:20250330T010000
END:DAYLIGHT
BEGIN:STANDARD
TZOFFSETFROM:+0200
TZOFFSETTO:+0100
TZNAME:CET
DTSTART:20251026T010000
END:STANDARD
END:VTIMEZONE
BEGIN:VEVENT
DTSTART;TZID=Europe/Paris:20250311T090000
DTEND;TZID=Europe/Paris:20250314T180000
DTSTAMP:20260425T130015
CREATED:20240311T080009Z
LAST-MODIFIED:20250128T105244Z
UID:3034-1741683600-1741975200@new.micronics.fr
SUMMARY:Participation de Micronics à GLOBAL INDUSTRIE
DESCRIPTION:Nous sommes ravis d’annoncer que Micronics participera à l’édition 2025 du salon GLOBAL INDUSTRIE\, le plus grand rassemblement de l’industrie en France. Cet événement est une opportunité exceptionnelle pour nous de présenter nos dernières innovations en matière de solutions industrielles et de rencontrer des professionnels du secteur.
URL:https://new.micronics.fr/evenement/participation-de-micronics-a-global-industrie/
LOCATION:Eurexpo Lyon\, Bd de l'Europe\, Chassieu\, Chassieu\, 69680\, France
ORGANIZER;CN="GLOBAL INDUSTRIE":MAILTO:contact.globalindustrie@gl-events.com
END:VEVENT
END:VCALENDAR