BEGIN:VCALENDAR
VERSION:2.0
PRODID:-//Micronics Systems - ECPv6.9.1//NONSGML v1.0//EN
CALSCALE:GREGORIAN
METHOD:PUBLISH
X-WR-CALNAME:Micronics Systems
X-ORIGINAL-URL:https://new.micronics.fr
X-WR-CALDESC:Évènements pour Micronics Systems
REFRESH-INTERVAL;VALUE=DURATION:PT1H
X-Robots-Tag:noindex
X-PUBLISHED-TTL:PT1H
BEGIN:VTIMEZONE
TZID:Europe/Paris
BEGIN:DAYLIGHT
TZOFFSETFROM:+0100
TZOFFSETTO:+0200
TZNAME:CEST
DTSTART:20240331T010000
END:DAYLIGHT
BEGIN:STANDARD
TZOFFSETFROM:+0200
TZOFFSETTO:+0100
TZNAME:CET
DTSTART:20241027T010000
END:STANDARD
END:VTIMEZONE
BEGIN:VEVENT
DTSTART;TZID=Europe/Paris:20241015T080000
DTEND;TZID=Europe/Paris:20241017T170000
DTSTAMP:20260425T223418
CREATED:20231015T070026Z
LAST-MODIFIED:20250128T105434Z
UID:3396-1728979200-1729184400@new.micronics.fr
SUMMARY:Participation de Micronics à SIANE Industries
DESCRIPTION:Micronics Systems est fier d’annoncer sa participation au Salon SIANE Industries\, l’événement incontournable de l’industrie en Occitanie. Du 15 au 17 octobre 2024\, retrouvez-nous pour découvrir nos solutions innovantes dédiées à l’optimisation des processus industriels. Cet événement sera l’occasion d’échanger avec nos experts\, d’assister à des démonstrations en direct et de découvrir comment nos technologies de pointe peuvent améliorer la performance de vos systèmes de production. Ne manquez pas cette opportunité unique pour rencontrer l’équipe de Micronics Systems et explorer les dernières avancées dans le domaine des solutions industrielles.
URL:https://new.micronics.fr/evenement/3396/
LOCATION:MEETT – Parc des Expositions et Centre de Conventions & Congrès de Toulouse Métropole\, Av. Concorde\, Aussonne\, Aussonne\, 31840\, France
END:VEVENT
END:VCALENDAR